Workbook

Sheet Instructions
A2: Tab 1. Budget Calculations: This is a linked sheet, with formulae embedded. The Industry partner costs in this sheet (rows 29-34) will fill automatically when data is entered into the linked sheet 2. Industry partner Project Costs. Please start by inputting into Tab 2. Section A: Applicant Details table: please complete the yellow cells Section B: Industry Partner Details table: please complete the yellow cells Section C: Determination of allowed aid intensity - please select: Grant aid intensity 1: the category of research Grant aid intensity 2: the size of the company [industry partner] Grant aid intensity 3: indicate whether additional aid is requested for wide dissemination of results/availability of licences/assisted region. The maximum % of Research Ireland funding (aid intensity) will be automatically calculated. Section D: Total Project Costs Please input the Research Ireland requested portion of the budget (i.e. Fellow salary/teaching buy-out and open access costs, a set €10000 is included to support eligible travel-related costs) The Industry Partner Contribution to Research Project will be autopopulated from Tab 2. A validation check is made to insure that the requested Research Ireland contibution does not exceed the permitted maximum aid intensity for the project.

Sheet 1. Budget calculations
A3: Section A: Applicant Details
A4: Applicant Name
A5: Research Body
A7: Section B: Industry Partner Details | F7: Section C: Determination of allowed aid intensity
A8: Industry Partner Details | F8: Please refer to Section 3.1.1 of programme call document for full descriptors of aid intensity options
A9: Company Name | F9: Grant Aid Intensity 1: Research Category | G9: Experimental Development | H9: =IF(G9="Industrial Research",50%,IF(G9="Experimental Development",25%)) -> 0.25
A10: Principal business activity | F10: Grant Aid Intensity 2: Company size | G10: Large | H10: =IF(G10="Small",20%,IF(G10="Medium",10%,IF(G10="Large",0%))) -> 0
A11: Tax Reference number | F11: Grant Aid Intensity 3: Fulfilment of one requirement: Wide Dissemination OR Availability of Licences OR Assisted Region | G11: No | H11: =IF(G11="Yes",15%,IF(G9="No",0%)) -> FALSE
F12: Maximum percentage of Research Ireland funding | H12: =IF(SUM(H9:H11) < 80%,SUM(H9:H11),80%) -> 0.25
A13: Please note the following are required before any application can be processed. The below documents must be submitted by the Industry Partner to Research Ireland by email to Industry.Fellowship@researchireland.ie within 2 weeks of the submission | F13: Maximum possible Research Ireland Support (aid intensity) is 80% of Total Project Costs
A14: --> Declaration of available resources to support the fellowship
A15: --> Copy of the most recent financial records (P&L and balance sheet)
A16: SMEs and Small Enterprises are required to submit the following if requesting increased grant aid intensity
A17: --> SME declaration
A19: Section D: Total Project Costs
A22: Research Ireland Contribution Breakdown | B22: Description | C22: Year 1 | D22: Year 2 | E22: Total
A23: Staff Costs | E23: =SUM(C23:D23) -> 0
A24: Travel | B24: Set budget available for eligible spend | E24: 10000
A25: Materials (open access costs only) | E25: =SUM(C25:D25) -> 0
A26: Total Research Ireland Contribution | E26: =SUM(E23:E25) -> 10000
A29: Industry Partner Contribution to Research Project | B29: Description | C29: Year1 | D29: Year 2 | E29: Total
A30: Staff Costs | C30: =+'2.IndustryPartner Project Costs'!C59 -> 0 | D30: =+'2.IndustryPartner Project Costs'!D59 -> 0 | E30: =SUM(C30:D30) -> 0
A31: Equipment / Instruments | C31: =+'2.IndustryPartner Project Costs'!C60 -> 0 | D31: =+'2.IndustryPartner Project Costs'!D60 -> 0 | E31: =SUM(C31:D31) -> 0
A32: Contract Research, Licences and Patents etc | C32: =+'2.IndustryPartner Project Costs'!C61 -> 0 | D32: =+'2.IndustryPartner Project Costs'!D61 -> 0 | E32: =SUM(C32:D32) -> 0
A33: Overheads and other Operating Expenses | C33: =+'2.IndustryPartner Project Costs'!C62 -> 0 | D33: =+'2.IndustryPartner Project Costs'!D62 -> 0 | E33: =SUM(C33:D33) -> 0
A34: Total Industry Partner Contribution to Research Project | E34: =SUM(E30:E33) -> 0
A36: Total Project Cost | B36: =E26+E34 -> 10000 | C36: This figure will update once information is entered in the tables above.
A37: % Aid Intensity Applied | B37: =+H12 -> 0.25 | C37: This figure is generated from the details in Section C
A38: Maximum permitted aid | B38: =+B36*B37 -> 2500 | C38: This figure reflects the maximum permitted aid from Research Ireland based on the details submitted
A39: Check that Research Ireland contribution does not exceed the max aid intensity in cell H12 | B39: =IF(E26/B36>B37,"Exceeds permitted grant aid","Within permitted grant aid") -> Exceeds permitted grant aid

Sheet 2.IndustryPartner Project Costs
A1: Please contact Research Ireland if additional rows are required
A3: 1. Staff costs: researchers, technicians and other supporting staff to the extent employed on the project.
A5: Role | B5: Name and title of staff member (if known) | C5: Annual rate € (See Note 1) | D5: Duration | E5: Year 1 € | F5: Year 2 € | G5: Total €
G6: =SUM(E6:F6) -> 0
G7: =SUM(E7:F7) -> 0
G8: =SUM(E8:F8) -> 0
G9: =SUM(E9:F9) -> 0
G10: =SUM(E10:F10) -> 0
G11: =SUM(E11:F11) -> 0
G12: =SUM(E12:F12) -> 0
G13: =SUM(E13:F13) -> 0
A14: Total | E14: =SUM(E6:E13) -> 0 | F14: =SUM(F6:F13) -> 0 | G14: =SUM(G6:G13) -> 0
A15: Note: Salary plus Employer PRSI only.
A17: 2. Costs of instruments and equipment to the extent and for the period used for the project. If such instruments and equipment are not used for their full life for the project, only the depreciation costs corresponding to the life of the project, as calculated on the basis of good accounting practice, are considered as eligible.
A19: Item | B19: Details | C19: Total cost | D19: Depreciation period (mths) | E19: Duration on project (mths) | F19: Year 1 € | G19: Year 2 € | H19: Total cost €
H20: =SUM(F20:G20) -> 0
H21: =SUM(F21:G21) -> 0
H22: =SUM(F22:G22) -> 0
H23: =SUM(F23:G23) -> 0
H24: =SUM(F24:G24) -> 0
H25: =SUM(F25:G25) -> 0
H26: =SUM(F26:G26) -> 0
A27: Total | F27: =SUM(F20:F26) -> 0 | G27: =SUM(G20:G26) -> 0 | H27: =SUM(H20:H26) -> 0
A28: Note: Adjust for depreciation as relevant.
A31: 3. Cost of contractual research, knowledge and patents bought or licensed from outside sources at arm’s length conditions, as well as costs of consultancy and equivalent services used exclusively for the project.
A33: Item | B33: Details | C33: Year 1 € | D33: Year 2 € | E33: Total cost €
E34: =SUM(C34:D34) -> 0
E35: =SUM(C35:D35) -> 0
E36: =SUM(C36:D36) -> 0
E37: =SUM(C37:D37) -> 0
E38: =SUM(C38:D38) -> 0
E39: =SUM(C39:D39) -> 0
E40: =SUM(C40:D40) -> 0
A41: Total | C41: =SUM(C34:C40) -> 0 | D41: =SUM(D34:D40) -> 0 | E41: =SUM(E34:E40) -> 0
A45: 4. Other operating expenses, including costs of materials, supplies and similar products incurred directly as a result of the project.
A47: Item | B47: Details | C47: Year 1 € | D47: Year 2 € | E47: Total cost €
E48: =SUM(C48:D48) -> 0
E49: =SUM(C49:D49) -> 0
E50: =SUM(C50:D50) -> 0
E51: =SUM(C51:D51) -> 0
...
